BEGIN:VCALENDAR
VERSION:2.0
PRODID:-//Fundación Biodiversidad - ECPv6.15.15//NONSGML v1.0//EN
CALSCALE:GREGORIAN
METHOD:PUBLISH
X-ORIGINAL-URL:https://fundacion-biodiversidad.es/en/
X-WR-CALDESC:Events for Fundación Biodiversidad
REFRESH-INTERVAL;VALUE=DURATION:PT1H
X-Robots-Tag:noindex
X-PUBLISHED-TTL:PT1H
BEGIN:VTIMEZONE
TZID:Europe/Madrid
BEGIN:DAYLIGHT
TZOFFSETFROM:+0100
TZOFFSETTO:+0200
TZNAME:CEST
DTSTART:20230326T010000
END:DAYLIGHT
BEGIN:STANDARD
TZOFFSETFROM:+0200
TZOFFSETTO:+0100
TZNAME:CET
DTSTART:20231029T010000
END:STANDARD
BEGIN:DAYLIGHT
TZOFFSETFROM:+0100
TZOFFSETTO:+0200
TZNAME:CEST
DTSTART:20240331T010000
END:DAYLIGHT
BEGIN:STANDARD
TZOFFSETFROM:+0200
TZOFFSETTO:+0100
TZNAME:CET
DTSTART:20241027T010000
END:STANDARD
BEGIN:DAYLIGHT
TZOFFSETFROM:+0100
TZOFFSETTO:+0200
TZNAME:CEST
DTSTART:20250330T010000
END:DAYLIGHT
BEGIN:STANDARD
TZOFFSETFROM:+0200
TZOFFSETTO:+0100
TZNAME:CET
DTSTART:20251026T010000
END:STANDARD
END:VTIMEZONE
BEGIN:VEVENT
DTSTART;TZID=Europe/Madrid:20240313T174500
DTEND;TZID=Europe/Madrid:20240313T184500
DTSTAMP:20260421T223109
CREATED:20240313T084338Z
LAST-MODIFIED:20240313T084547Z
UID:100000483-1710351900-1710355500@fundacion-biodiversidad.es
SUMMARY:Visit to the project "Conecta Congost Natura 2025".
DESCRIPTION:Institutional visit and media attention of the project “Conecta Congost Natura 2025“\, implemented by the City Council of Granollers. The third vice-president and minister for the ecological transition and the demographic challenge\, Teresa Ribera\, is participating in the visit. This initiative has been a beneficiary of the call for the renaturalization and resilience of Spanish cities 2021 within the framework of the Recovery\, Transformation and Resilience Plan (PRTR)\, financed by the European Union -NextGenerationEU. Its objective is to address urban renaturalization by applying various types of interventions to promote the creation of a more livable and biodiverse city.
URL:https://fundacion-biodiversidad.es/en/event/visit-to-the-project-conecta-congost-natura-2025/
LOCATION:Granollers
CATEGORIES:Participation in events
END:VEVENT
END:VCALENDAR