BEGIN:VCALENDAR
VERSION:2.0
PRODID:-//Fundación Biodiversidad - ECPv6.15.15//NONSGML v1.0//EN
CALSCALE:GREGORIAN
METHOD:PUBLISH
X-WR-CALNAME:Fundación Biodiversidad
X-ORIGINAL-URL:https://fundacion-biodiversidad.es/en/
X-WR-CALDESC:Events for Fundación Biodiversidad
REFRESH-INTERVAL;VALUE=DURATION:PT1H
X-Robots-Tag:noindex
X-PUBLISHED-TTL:PT1H
BEGIN:VTIMEZONE
TZID:Europe/Madrid
BEGIN:DAYLIGHT
TZOFFSETFROM:+0100
TZOFFSETTO:+0200
TZNAME:CEST
DTSTART:20230326T010000
END:DAYLIGHT
BEGIN:STANDARD
TZOFFSETFROM:+0200
TZOFFSETTO:+0100
TZNAME:CET
DTSTART:20231029T010000
END:STANDARD
BEGIN:DAYLIGHT
TZOFFSETFROM:+0100
TZOFFSETTO:+0200
TZNAME:CEST
DTSTART:20240331T010000
END:DAYLIGHT
BEGIN:STANDARD
TZOFFSETFROM:+0200
TZOFFSETTO:+0100
TZNAME:CET
DTSTART:20241027T010000
END:STANDARD
BEGIN:DAYLIGHT
TZOFFSETFROM:+0100
TZOFFSETTO:+0200
TZNAME:CEST
DTSTART:20250330T010000
END:DAYLIGHT
BEGIN:STANDARD
TZOFFSETFROM:+0200
TZOFFSETTO:+0100
TZNAME:CET
DTSTART:20251026T010000
END:STANDARD
END:VTIMEZONE
BEGIN:VEVENT
DTSTART;TZID=Europe/Madrid:20240314T093000
DTEND;TZID=Europe/Madrid:20240314T170000
DTSTAMP:20260421T192041
CREATED:20240228T113809Z
LAST-MODIFIED:20240228T113809Z
UID:100000493-1710408600-1710435600@fundacion-biodiversidad.es
SUMMARY:Conference 'Cooperation links and green entrepreneurship in Spain and Africa'.
DESCRIPTION:We participated in the conference ‘Cooperation ties and green entrepreneurship in Spain and Africa’ organized within the framework of the collaboration agreement signed in 2021 between the Biodiversity Foundation and Casa África for the development of activities on climate change\, biodiversity conservation\, ecological transition and environmental sustainability. The objective of the conference is to share\, debate and reflect on the sustainable business alternatives that exist and to strengthen collaboration between the two territories. It will be a meeting point for entrepreneurs from Spain and Africa committed to the conservation of biodiversity and the environment.
URL:https://fundacion-biodiversidad.es/en/event/conference-cooperation-links-and-green-entrepreneurship-in-spain-and-africa/
LOCATION:Las Palmas de Gran Canaria
CATEGORIES:Eventos propios
END:VEVENT
END:VCALENDAR