BEGIN:VCALENDAR
VERSION:2.0
PRODID:-//Fundación Biodiversidad - ECPv6.15.15//NONSGML v1.0//EN
CALSCALE:GREGORIAN
METHOD:PUBLISH
X-WR-CALNAME:Fundación Biodiversidad
X-ORIGINAL-URL:https://fundacion-biodiversidad.es/en/
X-WR-CALDESC:Events for Fundación Biodiversidad
REFRESH-INTERVAL;VALUE=DURATION:PT1H
X-Robots-Tag:noindex
X-PUBLISHED-TTL:PT1H
BEGIN:VTIMEZONE
TZID:Europe/Madrid
BEGIN:DAYLIGHT
TZOFFSETFROM:+0100
TZOFFSETTO:+0200
TZNAME:CEST
DTSTART:20230326T010000
END:DAYLIGHT
BEGIN:STANDARD
TZOFFSETFROM:+0200
TZOFFSETTO:+0100
TZNAME:CET
DTSTART:20231029T010000
END:STANDARD
BEGIN:DAYLIGHT
TZOFFSETFROM:+0100
TZOFFSETTO:+0200
TZNAME:CEST
DTSTART:20240331T010000
END:DAYLIGHT
BEGIN:STANDARD
TZOFFSETFROM:+0200
TZOFFSETTO:+0100
TZNAME:CET
DTSTART:20241027T010000
END:STANDARD
BEGIN:DAYLIGHT
TZOFFSETFROM:+0100
TZOFFSETTO:+0200
TZNAME:CEST
DTSTART:20250330T010000
END:DAYLIGHT
BEGIN:STANDARD
TZOFFSETFROM:+0200
TZOFFSETTO:+0100
TZNAME:CET
DTSTART:20251026T010000
END:STANDARD
END:VTIMEZONE
BEGIN:VEVENT
DTSTART;TZID=Europe/Madrid:20240920T113000
DTEND;TZID=Europe/Madrid:20240920T130000
DTSTAMP:20260420T190248
CREATED:20240912T094917Z
LAST-MODIFIED:20250415T071927Z
UID:100000620-1726831800-1726837200@fundacion-biodiversidad.es
SUMMARY:Presentation of the Sant Boi Respira+Verde project
DESCRIPTION:Presentation of the Sant Boi Respira + Verde project\, by the Sant Boi de Llobregat City Council\, which aims to develop the municipality’s green infrastructure.\nThis project is a beneficiary of the call for the renaturalisation and resilience of Spanish cities 2022 within the framework of the PRTR of the Biodiversity Foundation.\nHugo Morán\, Secretary of State for the Environment\, and Elena Pita\, director of the Biodiversity Foundation\, will participate.
URL:https://fundacion-biodiversidad.es/en/event/presentation-of-the-sant-boi-respiraverde-project/
LOCATION:Palau de Marianao\, Sant Boi de Llobregat.\, Palau de Marianao. Calle dels Tarongers. \, Sant Boi de Llobregat.\, 08830
CATEGORIES:Participation in events
END:VEVENT
END:VCALENDAR