BEGIN:VCALENDAR
VERSION:2.0
PRODID:-//Fundación Biodiversidad - ECPv6.15.15//NONSGML v1.0//EN
CALSCALE:GREGORIAN
METHOD:PUBLISH
X-WR-CALNAME:Fundación Biodiversidad
X-ORIGINAL-URL:https://fundacion-biodiversidad.es/en/
X-WR-CALDESC:Events for Fundación Biodiversidad
REFRESH-INTERVAL;VALUE=DURATION:PT1H
X-Robots-Tag:noindex
X-PUBLISHED-TTL:PT1H
BEGIN:VTIMEZONE
TZID:Europe/Madrid
BEGIN:DAYLIGHT
TZOFFSETFROM:+0100
TZOFFSETTO:+0200
TZNAME:CEST
DTSTART:20230326T010000
END:DAYLIGHT
BEGIN:STANDARD
TZOFFSETFROM:+0200
TZOFFSETTO:+0100
TZNAME:CET
DTSTART:20231029T010000
END:STANDARD
BEGIN:DAYLIGHT
TZOFFSETFROM:+0100
TZOFFSETTO:+0200
TZNAME:CEST
DTSTART:20240331T010000
END:DAYLIGHT
BEGIN:STANDARD
TZOFFSETFROM:+0200
TZOFFSETTO:+0100
TZNAME:CET
DTSTART:20241027T010000
END:STANDARD
BEGIN:DAYLIGHT
TZOFFSETFROM:+0100
TZOFFSETTO:+0200
TZNAME:CEST
DTSTART:20250330T010000
END:DAYLIGHT
BEGIN:STANDARD
TZOFFSETFROM:+0200
TZOFFSETTO:+0100
TZNAME:CET
DTSTART:20251026T010000
END:STANDARD
END:VTIMEZONE
BEGIN:VEVENT
DTSTART;TZID=Europe/Madrid:20240320T120000
DTEND;TZID=Europe/Madrid:20240320T140000
DTSTAMP:20260421T132824
CREATED:20240228T114307Z
LAST-MODIFIED:20240228T114307Z
UID:100000488-1710936000-1710943200@fundacion-biodiversidad.es
SUMMARY:Presentation of the campaign of the "Lechazos Pro-Biodiversity" Guarantee Mark.
DESCRIPTION:We participated in the presentation of the campaign of the “Lechazos Pro-Biodiversity” 2024 Guarantee Mark\, framed in the project“Program for the transformation of extensive livestock farming in mountain areas in coexistence with large carnivores: Livestock Pro-Biodiversity” of the Foundation for the Conservation of the Bearded Vulture. This project is a beneficiary of the Biodiversity Foundation’s Call for grants for the promotion of the bioeconomy and ecological transition 2021 within the framework of the Recovery\, Transformation and Resilience Plan (PRTR).
URL:https://fundacion-biodiversidad.es/en/event/presentation-of-the-campaign-of-the-lechazos-pro-biodiversity-guarantee-mark/
LOCATION:Santander
CATEGORIES:Participation in events
END:VEVENT
END:VCALENDAR