BEGIN:VCALENDAR
VERSION:2.0
PRODID:-//Fundación Biodiversidad - ECPv6.15.15//NONSGML v1.0//EN
CALSCALE:GREGORIAN
METHOD:PUBLISH
X-WR-CALNAME:Fundación Biodiversidad
X-ORIGINAL-URL:https://fundacion-biodiversidad.es/en/
X-WR-CALDESC:Events for Fundación Biodiversidad
REFRESH-INTERVAL;VALUE=DURATION:PT1H
X-Robots-Tag:noindex
X-PUBLISHED-TTL:PT1H
BEGIN:VTIMEZONE
TZID:Europe/Madrid
BEGIN:DAYLIGHT
TZOFFSETFROM:+0100
TZOFFSETTO:+0200
TZNAME:CEST
DTSTART:20230326T010000
END:DAYLIGHT
BEGIN:STANDARD
TZOFFSETFROM:+0200
TZOFFSETTO:+0100
TZNAME:CET
DTSTART:20231029T010000
END:STANDARD
BEGIN:DAYLIGHT
TZOFFSETFROM:+0100
TZOFFSETTO:+0200
TZNAME:CEST
DTSTART:20240331T010000
END:DAYLIGHT
BEGIN:STANDARD
TZOFFSETFROM:+0200
TZOFFSETTO:+0100
TZNAME:CET
DTSTART:20241027T010000
END:STANDARD
BEGIN:DAYLIGHT
TZOFFSETFROM:+0100
TZOFFSETTO:+0200
TZNAME:CEST
DTSTART:20250330T010000
END:DAYLIGHT
BEGIN:STANDARD
TZOFFSETFROM:+0200
TZOFFSETTO:+0100
TZNAME:CET
DTSTART:20251026T010000
END:STANDARD
END:VTIMEZONE
BEGIN:VEVENT
DTSTART;VALUE=DATE:20240930
DTEND;VALUE=DATE:20241005
DTSTAMP:20260420T203116
CREATED:20240912T095144Z
LAST-MODIFIED:20250415T072059Z
UID:100000621-1727661600-1728007199@fundacion-biodiversidad.es
SUMMARY:IUCN Regional Conservation Forum
DESCRIPTION:IUCN Regional Conservation Forum for Europe and North and Central Asia is held in Bruges\, Belgium.\nIt is a key meeting point for IUCN members\, commissions and the secretariat to prepare for the IUCN World Congress that will take place next October 2025 in Abu Dhabi.\nElena Pita\, director and Sonia Castañeda\, deputy director of the Biodiversity Foundation\, participate.
URL:https://fundacion-biodiversidad.es/en/event/iucn-regional-conservation-forum/
LOCATION:The Bruges Meeting and Convention Centre (BMCC) – Bruges\, Belgium\, Bélgica
CATEGORIES:Participation in events
END:VEVENT
END:VCALENDAR