BEGIN:VCALENDAR
VERSION:2.0
PRODID:-//Fundación Biodiversidad - ECPv6.15.15//NONSGML v1.0//EN
CALSCALE:GREGORIAN
METHOD:PUBLISH
X-WR-CALNAME:Fundación Biodiversidad
X-ORIGINAL-URL:https://fundacion-biodiversidad.es
X-WR-CALDESC:Eventos para Fundación Biodiversidad
REFRESH-INTERVAL;VALUE=DURATION:PT1H
X-Robots-Tag:noindex
X-PUBLISHED-TTL:PT1H
BEGIN:VTIMEZONE
TZID:Europe/Madrid
BEGIN:DAYLIGHT
TZOFFSETFROM:+0100
TZOFFSETTO:+0200
TZNAME:CEST
DTSTART:20230326T010000
END:DAYLIGHT
BEGIN:STANDARD
TZOFFSETFROM:+0200
TZOFFSETTO:+0100
TZNAME:CET
DTSTART:20231029T010000
END:STANDARD
BEGIN:DAYLIGHT
TZOFFSETFROM:+0100
TZOFFSETTO:+0200
TZNAME:CEST
DTSTART:20240331T010000
END:DAYLIGHT
BEGIN:STANDARD
TZOFFSETFROM:+0200
TZOFFSETTO:+0100
TZNAME:CET
DTSTART:20241027T010000
END:STANDARD
BEGIN:DAYLIGHT
TZOFFSETFROM:+0100
TZOFFSETTO:+0200
TZNAME:CEST
DTSTART:20250330T010000
END:DAYLIGHT
BEGIN:STANDARD
TZOFFSETFROM:+0200
TZOFFSETTO:+0100
TZNAME:CET
DTSTART:20251026T010000
END:STANDARD
END:VTIMEZONE
BEGIN:VEVENT
DTSTART;TZID=Europe/Madrid:20240313T174500
DTEND;TZID=Europe/Madrid:20240313T184500
DTSTAMP:20260421T210613
CREATED:20240313T084338Z
LAST-MODIFIED:20240313T084538Z
UID:100000482-1710351900-1710355500@fundacion-biodiversidad.es
SUMMARY:Visita al proyecto "Conecta Congost Natura 2025"
DESCRIPTION:Visita institucional y atención a medios del proyecto «Conecta Congost Natura 2025«\, que ejecuta el Ayuntamiento de Granollers. En la visita participa la vicepresidenta tercera y ministra para la transición ecológica y el reto demográfico\, Teresa Ribera. Esta iniciativa ha resultado beneficiaria de la convocatoria de renaturalización y resiliencia de ciudades españolas 2021 en el marco del Plan de Recuperación\, Transformación y Resiliencia (PRTR)\, financiado por la Unión Europea -NextGenerationEU. Su objetivo es afrontar la renaturalización urbana aplicando diversos tipos de intervenciones para favorecer la creación de una ciudad más habitable y biodiversa.
URL:https://fundacion-biodiversidad.es/event/visita-al-proyecto-conecta-congost-natura-2025/
LOCATION:Granollers
CATEGORIES:Participación en eventos
END:VEVENT
END:VCALENDAR