BEGIN:VCALENDAR
VERSION:2.0
PRODID:-//Fundación Biodiversidad - ECPv6.15.15//NONSGML v1.0//EN
CALSCALE:GREGORIAN
METHOD:PUBLISH
X-ORIGINAL-URL:https://fundacion-biodiversidad.es
X-WR-CALDESC:Eventos para Fundación Biodiversidad
REFRESH-INTERVAL;VALUE=DURATION:PT1H
X-Robots-Tag:noindex
X-PUBLISHED-TTL:PT1H
BEGIN:VTIMEZONE
TZID:Europe/Madrid
BEGIN:DAYLIGHT
TZOFFSETFROM:+0100
TZOFFSETTO:+0200
TZNAME:CEST
DTSTART:20230326T010000
END:DAYLIGHT
BEGIN:STANDARD
TZOFFSETFROM:+0200
TZOFFSETTO:+0100
TZNAME:CET
DTSTART:20231029T010000
END:STANDARD
BEGIN:DAYLIGHT
TZOFFSETFROM:+0100
TZOFFSETTO:+0200
TZNAME:CEST
DTSTART:20240331T010000
END:DAYLIGHT
BEGIN:STANDARD
TZOFFSETFROM:+0200
TZOFFSETTO:+0100
TZNAME:CET
DTSTART:20241027T010000
END:STANDARD
BEGIN:DAYLIGHT
TZOFFSETFROM:+0100
TZOFFSETTO:+0200
TZNAME:CEST
DTSTART:20250330T010000
END:DAYLIGHT
BEGIN:STANDARD
TZOFFSETFROM:+0200
TZOFFSETTO:+0100
TZNAME:CET
DTSTART:20251026T010000
END:STANDARD
END:VTIMEZONE
BEGIN:VEVENT
DTSTART;TZID=Europe/Madrid:20240320T120000
DTEND;TZID=Europe/Madrid:20240320T140000
DTSTAMP:20260421T114923
CREATED:20240228T114307Z
LAST-MODIFIED:20240228T114307Z
UID:100000479-1710936000-1710943200@fundacion-biodiversidad.es
SUMMARY:Presentación de la campaña de la Marca de Garantía “Lechazos Pro-Biodiversidad”
DESCRIPTION:Participamos en la presentación de la campaña de la Marca de Garantía “Lechazos Pro-Biodiversidad” 2024\, enmarcado en el proyecto «Programa transformador de la ganadería extensiva en áreas de montaña en convivencia con grandes carnívoros: Ganadería Pro-Biodiversidad» de la Fundación para la Conservación del Quebrantahuesos. Este proyecto es beneficiario de la Convocatoria de ayudas para el fomento de la bioeconomía y la transición ecológica 2021 de la Fundación Biodiversidad en el marco del Plan de Recuperación\, Transformación y Resiliencia (PRTR).
URL:https://fundacion-biodiversidad.es/event/presentacion-de-la-campana-de-la-marca-de-garantia-lechazos-pro-biodiversidad/
LOCATION:Santander
CATEGORIES:Participación en eventos
END:VEVENT
END:VCALENDAR