BEGIN:VCALENDAR
VERSION:2.0
PRODID:-//Fundación Biodiversidad - ECPv6.15.15//NONSGML v1.0//EN
CALSCALE:GREGORIAN
METHOD:PUBLISH
X-ORIGINAL-URL:https://fundacion-biodiversidad.es
X-WR-CALDESC:Eventos para Fundación Biodiversidad
REFRESH-INTERVAL;VALUE=DURATION:PT1H
X-Robots-Tag:noindex
X-PUBLISHED-TTL:PT1H
BEGIN:VTIMEZONE
TZID:Europe/Madrid
BEGIN:DAYLIGHT
TZOFFSETFROM:+0100
TZOFFSETTO:+0200
TZNAME:CEST
DTSTART:20230326T010000
END:DAYLIGHT
BEGIN:STANDARD
TZOFFSETFROM:+0200
TZOFFSETTO:+0100
TZNAME:CET
DTSTART:20231029T010000
END:STANDARD
BEGIN:DAYLIGHT
TZOFFSETFROM:+0100
TZOFFSETTO:+0200
TZNAME:CEST
DTSTART:20240331T010000
END:DAYLIGHT
BEGIN:STANDARD
TZOFFSETFROM:+0200
TZOFFSETTO:+0100
TZNAME:CET
DTSTART:20241027T010000
END:STANDARD
BEGIN:DAYLIGHT
TZOFFSETFROM:+0100
TZOFFSETTO:+0200
TZNAME:CEST
DTSTART:20250330T010000
END:DAYLIGHT
BEGIN:STANDARD
TZOFFSETFROM:+0200
TZOFFSETTO:+0100
TZNAME:CET
DTSTART:20251026T010000
END:STANDARD
END:VTIMEZONE
BEGIN:VEVENT
DTSTART;VALUE=DATE:20241002
DTEND;VALUE=DATE:20241005
DTSTAMP:20260421T002942
CREATED:20240918T120021Z
LAST-MODIFIED:20240918T120021Z
UID:100000558-1727834400-1728007199@fundacion-biodiversidad.es
SUMMARY:IV Congreso Internacional de Compra Pública Verde y Cambio Climático
DESCRIPTION:Participamos en la inauguración del IV Congreso Internacional de Compra Pública Verde y Cambio Climático\, celebrado en la Universidad de Alcalá. \nEl Congreso es una iniciativa del Grupo de Investigación de la Universidad de Alcalá “Compra Pública Verde” en alianza con otros investigadores y expertos en contratación pública y forma parte del Proyecto de Investigación «Compra Publica Verde: Una herramienta estratégica Contra el Cambio Climático. Análisis Sectorial: Alimentación\, Edificación\, Movilidad y Despoblación\, financiado por el Ministerio de Ciencia e Innovación.
URL:https://fundacion-biodiversidad.es/event/iv-congreso-internacional-de-compra-publica-verde-y-cambio-climatico/
LOCATION:Universidad de Alcalá
CATEGORIES:Participación en eventos
END:VEVENT
END:VCALENDAR