BEGIN:VCALENDAR
VERSION:2.0
PRODID:-//Fundación Biodiversidad - ECPv6.15.15//NONSGML v1.0//EN
CALSCALE:GREGORIAN
METHOD:PUBLISH
X-WR-CALNAME:Fundación Biodiversidad
X-ORIGINAL-URL:https://fundacion-biodiversidad.es
X-WR-CALDESC:Eventos para Fundación Biodiversidad
REFRESH-INTERVAL;VALUE=DURATION:PT1H
X-Robots-Tag:noindex
X-PUBLISHED-TTL:PT1H
BEGIN:VTIMEZONE
TZID:Europe/Madrid
BEGIN:DAYLIGHT
TZOFFSETFROM:+0100
TZOFFSETTO:+0200
TZNAME:CEST
DTSTART:20230326T010000
END:DAYLIGHT
BEGIN:STANDARD
TZOFFSETFROM:+0200
TZOFFSETTO:+0100
TZNAME:CET
DTSTART:20231029T010000
END:STANDARD
BEGIN:DAYLIGHT
TZOFFSETFROM:+0100
TZOFFSETTO:+0200
TZNAME:CEST
DTSTART:20240331T010000
END:DAYLIGHT
BEGIN:STANDARD
TZOFFSETFROM:+0200
TZOFFSETTO:+0100
TZNAME:CET
DTSTART:20241027T010000
END:STANDARD
BEGIN:DAYLIGHT
TZOFFSETFROM:+0100
TZOFFSETTO:+0200
TZNAME:CEST
DTSTART:20250330T010000
END:DAYLIGHT
BEGIN:STANDARD
TZOFFSETFROM:+0200
TZOFFSETTO:+0100
TZNAME:CET
DTSTART:20251026T010000
END:STANDARD
END:VTIMEZONE
BEGIN:VEVENT
DTSTART;TZID=Europe/Madrid:20240423T100000
DTEND;TZID=Europe/Madrid:20240423T123000
DTSTAMP:20260420T121742
CREATED:20240410T111728Z
LAST-MODIFIED:20240410T111728Z
UID:100000510-1713866400-1713875400@fundacion-biodiversidad.es
SUMMARY:Mesa de debate e inauguración de la exposición fotográfica del Programa Pleamar
DESCRIPTION:En el marco de la Semana de los Océanos y el Medio Ambiente\, celebramos dos eventos en la Facultad Ciencias del Mar y Ambientales de la Universidad de Cádiz. Por un lado\, organizamos la mesa de debate “Fomento e impulso de la capacitación para la transición ecológica en la economía azul”. Además\, se inaugurará la exposición fotográfica de resultados del periodo 2014-2020 del Programa Pleamar: siete años de proyectos para impulsar la sostenibilidad de la pesca y acuicultura.
URL:https://fundacion-biodiversidad.es/event/mesa-de-debate-e-inauguracion-de-la-exposicion-fotografica-del-programa-pleamar/
LOCATION:Universidad de Cádiz
CATEGORIES:Eventos propios
END:VEVENT
END:VCALENDAR